BEGIN:VCALENDAR
VERSION:2.0
METHOD:PUBLISH
PRODID:-//eightway/atendo2//NONSGML v1.0//EN
BEGIN:VEVENT
DTSTAMP:20260420T90208Z
DTSTART:20200214T100000Z
DTEND:20200214T105900Z
LOCATION:Am Rohrbusch 49, 48161 Münster, Germany (FKK &amp; Saunaclub Antalya)
UID:139-162
SUMMARY:RED Party im Saunaclub Antalya Münster
DESCRIPTION:https://www.freiercafe.net/kalender/red-party-im-saunaclub-antalya-muenster.139/event?id=162
URL:https://www.freiercafe.net/kalender/red-party-im-saunaclub-antalya-muenster.139/event?id=162
END:VEVENT
END:VCALENDAR