BEGIN:VCALENDAR
VERSION:2.0
METHOD:PUBLISH
PRODID:-//eightway/atendo2//NONSGML v1.0//EN
BEGIN:VEVENT
DTSTAMP:20260420T90124Z
DTSTART:20200222T100000Z
DTEND:20200222T105900Z
LOCATION:Acapulco Velbert Harkortstraße 3 42551 Velbert
UID:138-161
SUMMARY:Acapulco-Party mit Riesen UHD TV Tombola
DESCRIPTION:https://www.freiercafe.net/kalender/acapulco-party-mit-riesen-uhd-tv-tombola.138/event?id=161
URL:https://www.freiercafe.net/kalender/acapulco-party-mit-riesen-uhd-tv-tombola.138/event?id=161
END:VEVENT
END:VCALENDAR