BEGIN:VCALENDAR
VERSION:2.0
METHOD:PUBLISH
PRODID:-//eightway/atendo2//NONSGML v1.0//EN
BEGIN:VEVENT
DTSTAMP:20260420T90229Z
DTSTART:20200214T100000Z
DTEND:20200214T105900Z
LOCATION:Acapulco Velbert Harkortstraße 3 42551 Velbert
UID:137-160
SUMMARY:Acapulco Valentines Day
DESCRIPTION:https://www.freiercafe.net/kalender/acapulco-valentines-day.137/event?id=160
URL:https://www.freiercafe.net/kalender/acapulco-valentines-day.137/event?id=160
END:VEVENT
END:VCALENDAR