BEGIN:VCALENDAR
VERSION:2.0
METHOD:PUBLISH
PRODID:-//eightway/atendo2//NONSGML v1.0//EN
BEGIN:VEVENT
DTSTAMP:20260420T90201Z
DTSTART:20200215T100000Z
DTEND:20200215T105900Z
LOCATION:FKK Salome - Riemkerstr. 110 - 44625 Herne
UID:136-159
SUMMARY:Salome Party mit Riesengewinnen
DESCRIPTION:https://www.freiercafe.net/kalender/salome-party-mit-riesengewinnen.136/event?id=159
URL:https://www.freiercafe.net/kalender/salome-party-mit-riesengewinnen.136/event?id=159
END:VEVENT
END:VCALENDAR