BEGIN:VCALENDAR
VERSION:2.0
METHOD:PUBLISH
PRODID:-//eightway/atendo2//NONSGML v1.0//EN
BEGIN:VEVENT
DTSTAMP:20260420T90146Z
DTSTART:20200214T100000Z
DTEND:20200214T105900Z
LOCATION:FKK Salome - Riemkerstr. 110 - 44625 Herne
UID:135-158
SUMMARY:Salome Valentines Day
DESCRIPTION:https://www.freiercafe.net/kalender/salome-valentines-day.135/event?id=158
URL:https://www.freiercafe.net/kalender/salome-valentines-day.135/event?id=158
END:VEVENT
END:VCALENDAR