BEGIN:VCALENDAR
VERSION:2.0
METHOD:PUBLISH
PRODID:-//eightway/atendo2//NONSGML v1.0//EN
BEGIN:VEVENT
DTSTAMP:20260420T90156Z
DTSTART:20200220T100000Z
DTEND:20200220T105900Z
LOCATION:Club Mondial,  Hugo-Junkers-Straße 10, 50739 Köln
UID:134-157
SUMMARY:Weiberfastnacht im Mondial
DESCRIPTION:https://www.freiercafe.net/kalender/weiberfastnacht-im-mondial.134/event?id=157
URL:https://www.freiercafe.net/kalender/weiberfastnacht-im-mondial.134/event?id=157
END:VEVENT
END:VCALENDAR