BEGIN:VCALENDAR
VERSION:2.0
METHOD:PUBLISH
PRODID:-//eightway/atendo2//NONSGML v1.0//EN
BEGIN:VEVENT
DTSTAMP:20260420T90233Z
DTSTART:20200220T100000Z
DTEND:20200220T105900Z
LOCATION:FKK Saunaclub Samya
UID:133-156
SUMMARY:Weiberfastnacht im Samya
DESCRIPTION:https://www.freiercafe.net/kalender/weiberfastnacht-im-samya.133/event?id=156
URL:https://www.freiercafe.net/kalender/weiberfastnacht-im-samya.133/event?id=156
END:VEVENT
END:VCALENDAR