BEGIN:VCALENDAR
VERSION:2.0
METHOD:PUBLISH
PRODID:-//eightway/atendo2//NONSGML v1.0//EN
BEGIN:VEVENT
DTSTAMP:20260420T90125Z
DTSTART:20200208T100000Z
DTEND:20200208T105900Z
LOCATION:Saunaclub Diamond, Eurotec Ring 51 47445 Moers
UID:132-154
SUMMARY:Bück Dich - Pornoevent mit dem Analluder
DESCRIPTION:https://www.freiercafe.net/kalender/bueck-dich-pornoevent-mit-dem-analluder.132/event?id=154
URL:https://www.freiercafe.net/kalender/bueck-dich-pornoevent-mit-dem-analluder.132/event?id=154
END:VEVENT
END:VCALENDAR