BEGIN:VCALENDAR
VERSION:2.0
METHOD:PUBLISH
PRODID:-//eightway/atendo2//NONSGML v1.0//EN
BEGIN:VEVENT
DTSTAMP:20260420T90158Z
DTSTART:20191231T100000Z
DTEND:20191231T105900Z
LOCATION:Saunaclub Happy Garden - Butzenstr 41, Tönisvorst
UID:131-153
SUMMARY:Happy Garden Silvesterparty - Heiligabend geöffnet
DESCRIPTION:https://www.freiercafe.net/kalender/happy-garden-silvesterparty-heiligabend-geoeffnet.131/event?id=153
URL:https://www.freiercafe.net/kalender/happy-garden-silvesterparty-heiligabend-geoeffnet.131/event?id=153
END:VEVENT
END:VCALENDAR