BEGIN:VCALENDAR
VERSION:2.0
METHOD:PUBLISH
PRODID:-//eightway/atendo2//NONSGML v1.0//EN
BEGIN:VEVENT
DTSTAMP:20260420T90128Z
DTSTART:20191231T100000Z
DTEND:20191231T105900Z
LOCATION:Deutscher Ring 40, 42327 Wuppertal, Germany (Sky Saunaclub)
UID:130-152
SUMMARY:Sky Latina Silvesterparty
DESCRIPTION:https://www.freiercafe.net/kalender/sky-latina-silvesterparty.130/event?id=152
URL:https://www.freiercafe.net/kalender/sky-latina-silvesterparty.130/event?id=152
END:VEVENT
END:VCALENDAR