BEGIN:VCALENDAR
VERSION:2.0
METHOD:PUBLISH
PRODID:-//eightway/atendo2//NONSGML v1.0//EN
BEGIN:VEVENT
DTSTAMP:20260420T90136Z
DTSTART:20191231T100000Z
DTEND:20191231T105900Z
LOCATION:Kirschbaumweg 26A, 50996 Köln, Germany (FKK Saunaclub Samya)
UID:129-151
SUMMARY:Silvesterparty im Samya
DESCRIPTION:https://www.freiercafe.net/kalender/silvesterparty-im-samya.129/event?id=151
URL:https://www.freiercafe.net/kalender/silvesterparty-im-samya.129/event?id=151
END:VEVENT
END:VCALENDAR