BEGIN:VCALENDAR
VERSION:2.0
METHOD:PUBLISH
PRODID:-//eightway/atendo2//NONSGML v1.0//EN
BEGIN:VEVENT
DTSTAMP:20260420T90205Z
DTSTART:20191211T100000Z
DTEND:20191211T105900Z
LOCATION:Hugo-Junkers-Straße 10, 50739 Köln, Germany (Club Mondial)
UID:111-150
SUMMARY:Weihnachtsparty im Mondial
DESCRIPTION:https://www.freiercafe.net/kalender/weihnachtsparty-im-mondial.111/event?id=150
URL:https://www.freiercafe.net/kalender/weihnachtsparty-im-mondial.111/event?id=150
END:VEVENT
END:VCALENDAR