BEGIN:VCALENDAR
VERSION:2.0
METHOD:PUBLISH
PRODID:-//eightway/atendo2//NONSGML v1.0//EN
BEGIN:VEVENT
DTSTAMP:20260420T90130Z
DTSTART:20191214T100000Z
DTEND:20191214T105900Z
LOCATION:Bahnstraße 90, 47929 Grefrath, Germany (Saunaclub Villa Vanilla)
UID:128-147
SUMMARY:X-Mas Party in der Villa Vanilla Grefrath
DESCRIPTION:https://www.freiercafe.net/kalender/x-mas-party-in-der-villa-vanilla-grefrath.128/event?id=147
URL:https://www.freiercafe.net/kalender/x-mas-party-in-der-villa-vanilla-grefrath.128/event?id=147
END:VEVENT
END:VCALENDAR