BEGIN:VCALENDAR
VERSION:2.0
METHOD:PUBLISH
PRODID:-//eightway/atendo2//NONSGML v1.0//EN
BEGIN:VEVENT
DTSTAMP:20260420T111646Z
DTSTART:20191231T70000Z
DTEND:20191231T105900Z
LOCATION:Kautzstraße 9, 47441 Moers, Germany (Club Laluna)
UID:127-145
SUMMARY:Silvester im Club Laluna Moers
DESCRIPTION:https://www.freiercafe.net/kalender/silvester-im-club-laluna-moers.127/event?id=145
URL:https://www.freiercafe.net/kalender/silvester-im-club-laluna-moers.127/event?id=145
END:VEVENT
END:VCALENDAR