BEGIN:VCALENDAR
VERSION:2.0
METHOD:PUBLISH
PRODID:-//eightway/atendo2//NONSGML v1.0//EN
BEGIN:VEVENT
DTSTAMP:20260420T90150Z
DTSTART:20191231T100000Z
DTEND:20200101T60000Z
LOCATION:Harkortstraße 3, 42551 Velbert, Germany (Acapulco Velbert)
UID:126-144
SUMMARY:Silvester im Acapulco Velbert
DESCRIPTION:https://www.freiercafe.net/kalender/silvester-im-acapulco-velbert.126/event?id=144
URL:https://www.freiercafe.net/kalender/silvester-im-acapulco-velbert.126/event?id=144
END:VEVENT
END:VCALENDAR