BEGIN:VCALENDAR
VERSION:2.0
METHOD:PUBLISH
PRODID:-//eightway/atendo2//NONSGML v1.0//EN
BEGIN:VEVENT
DTSTAMP:20260420T90131Z
DTSTART:20191214T100000Z
DTEND:20191214T105800Z
LOCATION:Deutscher Ring 40, 42327 Wuppertal, Germany (Sky Saunaclub)
UID:124-142
SUMMARY:Weihnachtsfeier im Sky Saunaclub
DESCRIPTION:https://www.freiercafe.net/kalender/weihnachtsfeier-im-sky-saunaclub.124/event?id=142
URL:https://www.freiercafe.net/kalender/weihnachtsfeier-im-sky-saunaclub.124/event?id=142
END:VEVENT
END:VCALENDAR