BEGIN:VCALENDAR
VERSION:2.0
METHOD:PUBLISH
PRODID:-//eightway/atendo2//NONSGML v1.0//EN
BEGIN:VEVENT
DTSTAMP:20260420T90159Z
DTSTART:20191211T100000Z
DTEND:20191211T105900Z
LOCATION:Kirschbaumweg 26A, 50996 Köln, Germany (FKK Saunaclub Samya)
UID:123-141
SUMMARY:Weihnachtsparty im Samya
DESCRIPTION:https://www.freiercafe.net/kalender/weihnachtsparty-im-samya.123/event?id=141
URL:https://www.freiercafe.net/kalender/weihnachtsparty-im-samya.123/event?id=141
END:VEVENT
END:VCALENDAR