BEGIN:VCALENDAR
VERSION:2.0
METHOD:PUBLISH
PRODID:-//eightway/atendo2//NONSGML v1.0//EN
BEGIN:VEVENT
DTSTAMP:20260420T90156Z
DTSTART:20191128T100000Z
DTEND:20191128T105900Z
LOCATION:Kirschbaumweg 26A, 50996 Köln, Germany (FKK Saunaclub Samya)
UID:122-140
SUMMARY:Donnerstag 28.10. Newsletter Day im Samya
DESCRIPTION:https://www.freiercafe.net/kalender/donnerstag-28-10-newsletter-day-im-samya.122/event?id=140
URL:https://www.freiercafe.net/kalender/donnerstag-28-10-newsletter-day-im-samya.122/event?id=140
END:VEVENT
END:VCALENDAR