BEGIN:VCALENDAR
VERSION:2.0
METHOD:PUBLISH
PRODID:-//eightway/atendo2//NONSGML v1.0//EN
BEGIN:VEVENT
DTSTAMP:20260420T90327Z
DTSTART:20191214T100000Z
DTEND:20191214T105900Z
LOCATION:Eurotec-Ring 51, 47445 Moers, Germany (Saunaclub Diamond)
UID:121-139
SUMMARY:Horny Christmas - Bescherung im Saunaclub Diamond Moers
DESCRIPTION:https://www.freiercafe.net/kalender/horny-christmas-bescherung-im-saunaclub-diamond-moers.121/event?id=139
URL:https://www.freiercafe.net/kalender/horny-christmas-bescherung-im-saunaclub-diamond-moers.121/event?id=139
END:VEVENT
END:VCALENDAR