BEGIN:VCALENDAR
VERSION:2.0
METHOD:PUBLISH
PRODID:-//eightway/atendo2//NONSGML v1.0//EN
BEGIN:VEVENT
DTSTAMP:20260420T90934Z
DTSTART:20191206T100000Z
DTEND:20191206T105900Z
LOCATION:Am Rohrbusch 49, 48161 Münster, Germany (FKK &amp; Saunaclub Antalya)
UID:120-138
SUMMARY:Nikolaus Pussy-Party in Münster
DESCRIPTION:https://www.freiercafe.net/kalender/nikolaus-pussy-party-in-muenster.120/event?id=138
URL:https://www.freiercafe.net/kalender/nikolaus-pussy-party-in-muenster.120/event?id=138
END:VEVENT
END:VCALENDAR