BEGIN:VCALENDAR
VERSION:2.0
METHOD:PUBLISH
PRODID:-//eightway/atendo2//NONSGML v1.0//EN
BEGIN:VEVENT
DTSTAMP:20260420T90201Z
DTSTART:20191129T100000Z
DTEND:20191129T105900Z
LOCATION:Am Rohrbusch 49, 48161 Münster, Germany (FKK &amp; Saunaclub Antalya)
UID:119-137
SUMMARY:Sexy Pyjama Party in Münster
DESCRIPTION:https://www.freiercafe.net/kalender/sexy-pyjama-party-in-muenster.119/event?id=137
URL:https://www.freiercafe.net/kalender/sexy-pyjama-party-in-muenster.119/event?id=137
END:VEVENT
END:VCALENDAR