BEGIN:VCALENDAR
VERSION:2.0
METHOD:PUBLISH
PRODID:-//eightway/atendo2//NONSGML v1.0//EN
BEGIN:VEVENT
DTSTAMP:20260420T90137Z
DTSTART:20191206T100000Z
DTEND:20191206T105900Z
LOCATION:Deutscher Ring 40, 42327 Wuppertal, Germany (Sky Saunaclub)
UID:118-136
SUMMARY:Sky Saunaclub - Horny Santa Claus Party
DESCRIPTION:https://www.freiercafe.net/kalender/sky-saunaclub-horny-santa-claus-party.118/event?id=136
URL:https://www.freiercafe.net/kalender/sky-saunaclub-horny-santa-claus-party.118/event?id=136
END:VEVENT
END:VCALENDAR