BEGIN:VCALENDAR
VERSION:2.0
METHOD:PUBLISH
PRODID:-//eightway/atendo2//NONSGML v1.0//EN
BEGIN:VEVENT
DTSTAMP:20260420T90226Z
DTSTART:20191225T100000Z
DTEND:20191225T105900Z
LOCATION:Riemker Str. 110, 44625 Herne, Germany (FKK Saunaclub Salome)
UID:117-135
SUMMARY:Salome X-Mas Party
DESCRIPTION:https://www.freiercafe.net/kalender/salome-x-mas-party.117/event?id=135
URL:https://www.freiercafe.net/kalender/salome-x-mas-party.117/event?id=135
END:VEVENT
END:VCALENDAR