BEGIN:VCALENDAR
VERSION:2.0
METHOD:PUBLISH
PRODID:-//eightway/atendo2//NONSGML v1.0//EN
BEGIN:VEVENT
DTSTAMP:20260420T90148Z
DTSTART:20191225T100000Z
DTEND:20191225T105900Z
LOCATION:Harkortstraße 3, 42551 Velbert, Germany (Acapulco Velbert)
UID:116-134
SUMMARY:Acapulco X-Mas Party
DESCRIPTION:https://www.freiercafe.net/kalender/acapulco-x-mas-party.116/event?id=134
URL:https://www.freiercafe.net/kalender/acapulco-x-mas-party.116/event?id=134
END:VEVENT
END:VCALENDAR