BEGIN:VCALENDAR
VERSION:2.0
METHOD:PUBLISH
PRODID:-//eightway/atendo2//NONSGML v1.0//EN
BEGIN:VEVENT
DTSTAMP:20260420T90159Z
DTSTART:20191224T100000Z
DTEND:20191224T105900Z
LOCATION:Riemker Str. 110, 44625 Herne, Germany (FKK Saunaclub Salome)
UID:115-133
SUMMARY:Salome - Christmas eve
DESCRIPTION:https://www.freiercafe.net/kalender/salome-christmas-eve.115/event?id=133
URL:https://www.freiercafe.net/kalender/salome-christmas-eve.115/event?id=133
END:VEVENT
END:VCALENDAR