BEGIN:VCALENDAR
VERSION:2.0
METHOD:PUBLISH
PRODID:-//eightway/atendo2//NONSGML v1.0//EN
BEGIN:VEVENT
DTSTAMP:20260420T90330Z
DTSTART:20191224T100000Z
DTEND:20191224T105900Z
LOCATION:Harkortstraße 3, 42551 Velbert, Germany (Acapulco Velbert)
UID:114-132
SUMMARY:Heiligabend im Acapulco Velbert
DESCRIPTION:https://www.freiercafe.net/kalender/heiligabend-im-acapulco-velbert.114/event?id=132
URL:https://www.freiercafe.net/kalender/heiligabend-im-acapulco-velbert.114/event?id=132
END:VEVENT
END:VCALENDAR