BEGIN:VCALENDAR
VERSION:2.0
METHOD:PUBLISH
PRODID:-//eightway/atendo2//NONSGML v1.0//EN
BEGIN:VEVENT
DTSTAMP:20260420T90232Z
DTSTART:20191206T100000Z
DTEND:20191206T105900Z
LOCATION:Harkortstraße 3, 42551 Velbert, Germany (Saunaclub Acapulco Velbert)
UID:113-131
SUMMARY:Nicolaus - the great party - Acapulco Velbert
DESCRIPTION:https://www.freiercafe.net/kalender/nicolaus-the-great-party-acapulco-velbert.113/event?id=131
URL:https://www.freiercafe.net/kalender/nicolaus-the-great-party-acapulco-velbert.113/event?id=131
END:VEVENT
END:VCALENDAR