BEGIN:VCALENDAR
VERSION:2.0
METHOD:PUBLISH
PRODID:-//eightway/atendo2//NONSGML v1.0//EN
BEGIN:VEVENT
DTSTAMP:20260420T90154Z
DTSTART:20191206T100000Z
DTEND:20191206T105900Z
LOCATION:Kirschbaumweg 26A, 50996 Köln, Germany (FKK Saunaclub Samya)
UID:110-128
SUMMARY:Samya Nikolaus-Party mit Überraschungsgeschenk für alle
DESCRIPTION:https://www.freiercafe.net/kalender/samya-nikolaus-party-mit-ueberraschungsgeschenk-fuer-alle.110/event?id=128
URL:https://www.freiercafe.net/kalender/samya-nikolaus-party-mit-ueberraschungsgeschenk-fuer-alle.110/event?id=128
END:VEVENT
END:VCALENDAR