BEGIN:VCALENDAR
VERSION:2.0
METHOD:PUBLISH
PRODID:-//eightway/atendo2//NONSGML v1.0//EN
BEGIN:VEVENT
DTSTAMP:20260420T90219Z
DTSTART:20191123T100000Z
DTEND:20191123T105900Z
LOCATION:Eurotec-Ring 51, 47445 Moers, Germany (Saunaclub Diamond)
UID:109-127
SUMMARY:Oriental Dance Party
DESCRIPTION:https://www.freiercafe.net/kalender/oriental-dance-party.109/event?id=127
URL:https://www.freiercafe.net/kalender/oriental-dance-party.109/event?id=127
END:VEVENT
END:VCALENDAR