BEGIN:VCALENDAR
VERSION:2.0
METHOD:PUBLISH
PRODID:-//eightway/atendo2//NONSGML v1.0//EN
BEGIN:VEVENT
DTSTAMP:20260420T90222Z
DTSTART:20191116T90000Z
DTEND:20191116T105900Z
LOCATION:Riemker Str. 110, 44625 Herne, Germany (FKK Saunaclub Salome)
UID:108-126
SUMMARY:Salome Party mit Mega Tombola
DESCRIPTION:https://www.freiercafe.net/kalender/salome-party-mit-mega-tombola.108/event?id=126
URL:https://www.freiercafe.net/kalender/salome-party-mit-mega-tombola.108/event?id=126
END:VEVENT
END:VCALENDAR