BEGIN:VCALENDAR
VERSION:2.0
METHOD:PUBLISH
PRODID:-//eightway/atendo2//NONSGML v1.0//EN
BEGIN:VEVENT
DTSTAMP:20260420T90301Z
DTSTART:20191123T90000Z
DTEND:20191123T105900Z
LOCATION:Harkortstraße 3, 42551 Velbert, Germany (Saunaclub Acapulco Velbert)
UID:107-125
SUMMARY:Acapulco-Party mit Riesen UHD TV Tombola
DESCRIPTION:https://www.freiercafe.net/kalender/acapulco-party-mit-riesen-uhd-tv-tombola.107/event?id=125
URL:https://www.freiercafe.net/kalender/acapulco-party-mit-riesen-uhd-tv-tombola.107/event?id=125
END:VEVENT
END:VCALENDAR