BEGIN:VCALENDAR
VERSION:2.0
METHOD:PUBLISH
PRODID:-//eightway/atendo2//NONSGML v1.0//EN
BEGIN:VEVENT
DTSTAMP:20260420T90127Z
DTSTART:20191111T100000Z
DTEND:20191111T105900Z
LOCATION:Kirschbaumweg 26A, 50996 Köln, Germany (FKK Saunaclub Samya)
UID:106-124
SUMMARY:Sankt Martin Karnevalsparty im Samya
DESCRIPTION:https://www.freiercafe.net/kalender/sankt-martin-karnevalsparty-im-samya.106/event?id=124
URL:https://www.freiercafe.net/kalender/sankt-martin-karnevalsparty-im-samya.106/event?id=124
END:VEVENT
END:VCALENDAR