BEGIN:VCALENDAR
VERSION:2.0
METHOD:PUBLISH
PRODID:-//eightway/atendo2//NONSGML v1.0//EN
BEGIN:VEVENT
DTSTAMP:20260420T90303Z
DTSTART:20191102T100000Z
DTEND:20191102T105900Z
LOCATION:Westring 233A, 44579 Castrop-Rauxel, Germany (Saunaclub Penelope)
UID:105-123
SUMMARY:Penelope Halloweenparty
DESCRIPTION:https://www.freiercafe.net/kalender/penelope-halloweenparty.105/event?id=123
URL:https://www.freiercafe.net/kalender/penelope-halloweenparty.105/event?id=123
END:VEVENT
END:VCALENDAR