BEGIN:VCALENDAR
VERSION:2.0
METHOD:PUBLISH
PRODID:-//eightway/atendo2//NONSGML v1.0//EN
BEGIN:VEVENT
DTSTAMP:20260420T90214Z
DTSTART:20191029T90000Z
DTEND:20191029T105900Z
LOCATION:Kirschbaumweg 26A, 50996 Köln, Germany (FKK Saunaclub Samya)
UID:104-122
SUMMARY:Samya Newsletter-Day am Di 29.10.
DESCRIPTION:https://www.freiercafe.net/kalender/samya-newsletter-day-am-di-29-10.104/event?id=122
URL:https://www.freiercafe.net/kalender/samya-newsletter-day-am-di-29-10.104/event?id=122
END:VEVENT
END:VCALENDAR