BEGIN:VCALENDAR
VERSION:2.0
METHOD:PUBLISH
PRODID:-//eightway/atendo2//NONSGML v1.0//EN
BEGIN:VEVENT
DTSTAMP:20260420T90203Z
DTSTART:20191031T100000Z
DTEND:20191031T105900Z
LOCATION:Kautzstraße 9, 47441 Moers, Germany (Club laluna)
UID:103-121
SUMMARY:Keller-Exzesse - Halloweenparty im Laluna Moers
DESCRIPTION:https://www.freiercafe.net/kalender/keller-exzesse-halloweenparty-im-laluna-moers.103/event?id=121
URL:https://www.freiercafe.net/kalender/keller-exzesse-halloweenparty-im-laluna-moers.103/event?id=121
END:VEVENT
END:VCALENDAR