BEGIN:VCALENDAR
VERSION:2.0
METHOD:PUBLISH
PRODID:-//eightway/atendo2//NONSGML v1.0//EN
BEGIN:VEVENT
DTSTAMP:20260420T100216Z
DTSTART:20191031T100000Z
DTEND:20191031T105900Z
LOCATION:Deutscher Ring 40, 42327 Wuppertal, Germany (Sky Saunaclub)
UID:102-120
SUMMARY:SKY - Heisse Latina Vampirellas feiern Halloween
DESCRIPTION:https://www.freiercafe.net/kalender/sky-heisse-latina-vampirellas-feiern-halloween.102/event?id=120
URL:https://www.freiercafe.net/kalender/sky-heisse-latina-vampirellas-feiern-halloween.102/event?id=120
END:VEVENT
END:VCALENDAR