BEGIN:VCALENDAR
VERSION:2.0
METHOD:PUBLISH
PRODID:-//eightway/atendo2//NONSGML v1.0//EN
BEGIN:VEVENT
DTSTAMP:20260420T90150Z
DTSTART:20191102T100000Z
DTEND:20191102T105900Z
LOCATION:Eurotec-Ring 51, 47445 Moers, Germany (Saunaclub Diamond)
UID:101-119
SUMMARY:Orientparty mit Türkischer Pornobitch Hümeyra Ophelia
DESCRIPTION:https://www.freiercafe.net/kalender/orientparty-mit-tuerkischer-pornobitch-huemeyra-ophelia.101/event?id=119
URL:https://www.freiercafe.net/kalender/orientparty-mit-tuerkischer-pornobitch-huemeyra-ophelia.101/event?id=119
END:VEVENT
END:VCALENDAR