BEGIN:VCALENDAR
VERSION:2.0
METHOD:PUBLISH
PRODID:-//eightway/atendo2//NONSGML v1.0//EN
BEGIN:VEVENT
DTSTAMP:20260420T90306Z
DTSTART:20191026T90000Z
DTEND:20191026T95900Z
LOCATION:Oststraße 12, 50189 Elsdorf, Germany (Saunaclub Babylon)
UID:100-118
SUMMARY:Dessousparty im Babylon
DESCRIPTION:https://www.freiercafe.net/kalender/dessousparty-im-babylon.100/event?id=118
URL:https://www.freiercafe.net/kalender/dessousparty-im-babylon.100/event?id=118
END:VEVENT
END:VCALENDAR