BEGIN:VCALENDAR
VERSION:2.0
METHOD:PUBLISH
PRODID:-//eightway/atendo2//NONSGML v1.0//EN
BEGIN:VEVENT
DTSTAMP:20260420T90310Z
DTSTART:20191101T100000Z
DTEND:20191101T105900Z
LOCATION:Am Rohrbusch 49, 48161 Münster, Germany (FKK &amp; Saunaclub Antalya)
UID:99-117
SUMMARY:Helloweenparty im Antalya
DESCRIPTION:https://www.freiercafe.net/kalender/helloweenparty-im-antalya.99/event?id=117
URL:https://www.freiercafe.net/kalender/helloweenparty-im-antalya.99/event?id=117
END:VEVENT
END:VCALENDAR