BEGIN:VCALENDAR
VERSION:2.0
METHOD:PUBLISH
PRODID:-//eightway/atendo2//NONSGML v1.0//EN
BEGIN:VEVENT
DTSTAMP:20260420T90057Z
DTSTART:20191019T90000Z
DTEND:20191019T95900Z
LOCATION:Westring 233A, 44579 Castrop-Rauxel, Germany (Saunaclub Penelope)
UID:98-116
SUMMARY:Orientparty im Penelope
DESCRIPTION:https://www.freiercafe.net/kalender/orientparty-im-penelope.98/event?id=116
URL:https://www.freiercafe.net/kalender/orientparty-im-penelope.98/event?id=116
END:VEVENT
END:VCALENDAR