BEGIN:VCALENDAR
VERSION:2.0
METHOD:PUBLISH
PRODID:-//eightway/atendo2//NONSGML v1.0//EN
BEGIN:VEVENT
DTSTAMP:20260420T90203Z
DTSTART:20191031T100000Z
DTEND:20191031T105900Z
LOCATION:Robert-Zapp-Straße 2A, 40880 Ratingen, Germany (Saunaclub Acapulco Gold)
UID:97-115
SUMMARY:Halloween Party im Aca Gold
DESCRIPTION:https://www.freiercafe.net/kalender/halloween-party-im-aca-gold.97/event?id=115
URL:https://www.freiercafe.net/kalender/halloween-party-im-aca-gold.97/event?id=115
END:VEVENT
END:VCALENDAR