BEGIN:VCALENDAR
VERSION:2.0
METHOD:PUBLISH
PRODID:-//eightway/atendo2//NONSGML v1.0//EN
BEGIN:VEVENT
DTSTAMP:20260420T90108Z
DTSTART:20191101T100000Z
DTEND:20191101T105900Z
LOCATION:Bahnstraße 90, 47929 Grefrath, Germany (Saunaclub Villa Vanilla)
UID:95-113
SUMMARY:Halloween - Süßes oder Saures in der Villa
DESCRIPTION:https://www.freiercafe.net/kalender/halloween-suesses-oder-saures-in-der-villa.95/event?id=113
URL:https://www.freiercafe.net/kalender/halloween-suesses-oder-saures-in-der-villa.95/event?id=113
END:VEVENT
END:VCALENDAR