BEGIN:VCALENDAR
VERSION:2.0
METHOD:PUBLISH
PRODID:-//eightway/atendo2//NONSGML v1.0//EN
BEGIN:VEVENT
DTSTAMP:20260420T90208Z
DTSTART:20191031T100000Z
DTEND:20191031T105900Z
LOCATION:Butzenstraße 41, 47918 Tönisvorst, Germany (Saunaclub Happy Garden)
UID:94-112
SUMMARY:Halloween-Party im Happy Garden
DESCRIPTION:https://www.freiercafe.net/kalender/halloween-party-im-happy-garden.94/event?id=112
URL:https://www.freiercafe.net/kalender/halloween-party-im-happy-garden.94/event?id=112
END:VEVENT
END:VCALENDAR