BEGIN:VCALENDAR
VERSION:2.0
METHOD:PUBLISH
PRODID:-//eightway/atendo2//NONSGML v1.0//EN
BEGIN:VEVENT
DTSTAMP:20260420T74157Z
DTSTART:20191031T100000Z
DTEND:20191031T105900Z
LOCATION:Kirschbaumweg 26A, 50996 Köln, Germany (FKK Saunaclub Samya)
UID:93-111
SUMMARY:Sexy Halloween im Samya
DESCRIPTION:https://www.freiercafe.net/kalender/sexy-halloween-im-samya.93/event?id=111
URL:https://www.freiercafe.net/kalender/sexy-halloween-im-samya.93/event?id=111
END:VEVENT
END:VCALENDAR