BEGIN:VCALENDAR
VERSION:2.0
METHOD:PUBLISH
PRODID:-//eightway/atendo2//NONSGML v1.0//EN
BEGIN:VEVENT
DTSTAMP:20260420T90206Z
DTSTART:20191001T90000Z
DTEND:20191001T95900Z
LOCATION:Am Rohrbusch 49, 48161 Münster, Germany (FKK &amp; Saunaclub Antalya)
UID:92-110
SUMMARY:Tittytwister-Party im Antalya Münster - Showact: Ela
DESCRIPTION:https://www.freiercafe.net/kalender/tittytwister-party-im-antalya-muenster-showact-ela.92/event?id=110
URL:https://www.freiercafe.net/kalender/tittytwister-party-im-antalya-muenster-showact-ela.92/event?id=110
END:VEVENT
END:VCALENDAR