BEGIN:VCALENDAR
VERSION:2.0
METHOD:PUBLISH
PRODID:-//eightway/atendo2//NONSGML v1.0//EN
BEGIN:VEVENT
DTSTAMP:20260420T90323Z
DTSTART:20190928T90000Z
DTEND:20190928T95900Z
LOCATION:Am Rohrbusch 49, 48161 Münster, Germany (FKK &amp; Saunaclub Antalya)
UID:91-109
SUMMARY:Lesbo Saturday
DESCRIPTION:https://www.freiercafe.net/kalender/lesbo-saturday.91/event?id=109
URL:https://www.freiercafe.net/kalender/lesbo-saturday.91/event?id=109
END:VEVENT
END:VCALENDAR