BEGIN:VCALENDAR
VERSION:2.0
METHOD:PUBLISH
PRODID:-//eightway/atendo2//NONSGML v1.0//EN
BEGIN:VEVENT
DTSTAMP:20260420T90314Z
DTSTART:20191002T90000Z
DTEND:20191002T95900Z
LOCATION:Robert-Zapp-Straße 2A, 40880 Ratingen, Germany (FKK &amp; Saunaclub Acapulco Gold)
UID:89-107
SUMMARY:White Sensation im Acapulco Gold
DESCRIPTION:https://www.freiercafe.net/kalender/white-sensation-im-acapulco-gold.89/event?id=107
URL:https://www.freiercafe.net/kalender/white-sensation-im-acapulco-gold.89/event?id=107
END:VEVENT
END:VCALENDAR