BEGIN:VCALENDAR
VERSION:2.0
METHOD:PUBLISH
PRODID:-//eightway/atendo2//NONSGML v1.0//EN
BEGIN:VEVENT
DTSTAMP:20260420T90218Z
DTSTART:20190928T90000Z
DTEND:20190928T95900Z
LOCATION:Westring 233A, 44579 Castrop-Rauxel, Germany (Penelope de Luxe)
UID:88-106
SUMMARY:Oktoberfest im Penelope
DESCRIPTION:https://www.freiercafe.net/kalender/oktoberfest-im-penelope.88/event?id=106
URL:https://www.freiercafe.net/kalender/oktoberfest-im-penelope.88/event?id=106
END:VEVENT
END:VCALENDAR