BEGIN:VCALENDAR
VERSION:2.0
METHOD:PUBLISH
PRODID:-//eightway/atendo2//NONSGML v1.0//EN
BEGIN:VEVENT
DTSTAMP:20260420T90312Z
DTSTART:20190925T90000Z
DTEND:20190925T95900Z
LOCATION:Am Rohrbusch 49, 48161 Münster, Germany (FKK &amp; Saunaclub Antalya)
UID:87-105
SUMMARY:Nipplemania - Skinny Mini Party im Saunaclub Antalya
DESCRIPTION:https://www.freiercafe.net/kalender/nipplemania-skinny-mini-party-im-saunaclub-antalya.87/event?id=105
URL:https://www.freiercafe.net/kalender/nipplemania-skinny-mini-party-im-saunaclub-antalya.87/event?id=105
END:VEVENT
END:VCALENDAR