BEGIN:VCALENDAR
VERSION:2.0
METHOD:PUBLISH
PRODID:-//eightway/atendo2//NONSGML v1.0//EN
BEGIN:VEVENT
DTSTAMP:20260420T90936Z
DTSTART:20190928T90000Z
DTEND:20190929T10000Z
LOCATION:Deutscher Ring 40, 42327 Wuppertal, Germany (Sky Saunaclub)
UID:86-104
SUMMARY:Sky Oktoberfest - Obg´zapft wirst!!
DESCRIPTION:https://www.freiercafe.net/kalender/sky-oktoberfest-obgzapft-wirst.86/event?id=104
URL:https://www.freiercafe.net/kalender/sky-oktoberfest-obgzapft-wirst.86/event?id=104
END:VEVENT
END:VCALENDAR